BEGIN:VCALENDAR
VERSION:2.0
PRODID:-//Pacific Christian Center Church in Tacoma - ECPv6.15.17.1//NONSGML v1.0//EN
CALSCALE:GREGORIAN
METHOD:PUBLISH
X-WR-CALNAME:Pacific Christian Center Church in Tacoma
X-ORIGINAL-URL:https://pacchurch.org
X-WR-CALDESC:Events for Pacific Christian Center Church in Tacoma
REFRESH-INTERVAL;VALUE=DURATION:PT1H
X-Robots-Tag:noindex
X-PUBLISHED-TTL:PT1H
BEGIN:VTIMEZONE
TZID:America/Los_Angeles
BEGIN:DAYLIGHT
TZOFFSETFROM:-0800
TZOFFSETTO:-0700
TZNAME:PDT
DTSTART:20240310T100000
END:DAYLIGHT
BEGIN:STANDARD
TZOFFSETFROM:-0700
TZOFFSETTO:-0800
TZNAME:PST
DTSTART:20241103T090000
END:STANDARD
BEGIN:DAYLIGHT
TZOFFSETFROM:-0800
TZOFFSETTO:-0700
TZNAME:PDT
DTSTART:20250309T100000
END:DAYLIGHT
BEGIN:STANDARD
TZOFFSETFROM:-0700
TZOFFSETTO:-0800
TZNAME:PST
DTSTART:20251102T090000
END:STANDARD
BEGIN:DAYLIGHT
TZOFFSETFROM:-0800
TZOFFSETTO:-0700
TZNAME:PDT
DTSTART:20260308T100000
END:DAYLIGHT
BEGIN:STANDARD
TZOFFSETFROM:-0700
TZOFFSETTO:-0800
TZNAME:PST
DTSTART:20261101T090000
END:STANDARD
END:VTIMEZONE
BEGIN:VEVENT
DTSTART;TZID=America/Los_Angeles:20250903T191500
DTEND;TZID=America/Los_Angeles:20250903T201500
DTSTAMP:20260421T043454
CREATED:20250719T205546Z
LAST-MODIFIED:20250719T214538Z
UID:225338-1756926900-1756930500@pacchurch.org
SUMMARY:RISE Teen Ministry
DESCRIPTION:Teens\, attend the RISE Teen group every 1st\, 2nd\, 3rd & 4th Wednesday at 7:15pm.
URL:https://pacchurch.org/event/rise-teen-ministry-67/
LOCATION:Pacific Christian Center Church in Tacoma\, 3211-112th Street East\, Tacoma\, WA\, 98446\, United States
ATTACH;FMTTYPE=image/jpeg:https://media-pacchurch.s3.us-west-2.amazonaws.com/wp-content/uploads/2024/09/19113907/RISE-Update-2024.jpg
END:VEVENT
BEGIN:VEVENT
DTSTART;TZID=America/Los_Angeles:20250903T191500
DTEND;TZID=America/Los_Angeles:20250903T203000
DTSTAMP:20260421T043454
CREATED:20250719T205401Z
LAST-MODIFIED:20250719T214508Z
UID:225336-1756926900-1756931400@pacchurch.org
SUMMARY:Bible Study Service Live Life Now with Pastor Donald and Kathy Shorter!
DESCRIPTION:Bible Study Service Live Life Now with Pastor Donald & Kathy Shorter! Each week at 7:15 p.m.\nJoin them live in person!
URL:https://pacchurch.org/event/bible-study-service-live-life-now-with-pastor-donald-and-kathy-shorter-13/
LOCATION:Pacific Christian Center Church in Tacoma\, 3211-112th Street East\, Tacoma\, WA\, 98446\, United States
ATTACH;FMTTYPE=image/jpeg:https://media-pacchurch.s3.us-west-2.amazonaws.com/wp-content/uploads/2025/06/19113738/IMG_0933.jpeg
END:VEVENT
BEGIN:VEVENT
DTSTART;TZID=America/Los_Angeles:20250907T103000
DTEND;TZID=America/Los_Angeles:20250907T123000
DTSTAMP:20260421T043454
CREATED:20250719T214126Z
LAST-MODIFIED:20250719T214126Z
UID:225342-1757241000-1757248200@pacchurch.org
SUMMARY:Sunday Morning Service
DESCRIPTION:Join us for Sunday morning service this week.
URL:https://pacchurch.org/event/sunday-morning-service-89/
LOCATION:Pacific Christian Center Church in Tacoma\, 3211-112th Street East\, Tacoma\, WA\, 98446\, United States
ATTACH;FMTTYPE=image/png:https://media-pacchurch.s3.us-west-2.amazonaws.com/wp-content/uploads/2022/03/19113953/Sunday-Service-1.png
END:VEVENT
BEGIN:VEVENT
DTSTART;TZID=America/Los_Angeles:20250907T183000
DTEND;TZID=America/Los_Angeles:20250907T200000
DTSTAMP:20260421T043454
CREATED:20250719T214247Z
LAST-MODIFIED:20250719T214247Z
UID:225344-1757269800-1757275200@pacchurch.org
SUMMARY:Communion Service
DESCRIPTION:Join us for Communion service.
URL:https://pacchurch.org/event/communion-service-16/
LOCATION:Pacific Christian Center Church in Tacoma\, 3211-112th Street East\, Tacoma\, WA\, 98446\, United States
ATTACH;FMTTYPE=image/jpeg:https://media-pacchurch.s3.us-west-2.amazonaws.com/wp-content/uploads/2024/05/19113911/Communion.jpg
END:VEVENT
BEGIN:VEVENT
DTSTART;TZID=America/Los_Angeles:20250910T191500
DTEND;TZID=America/Los_Angeles:20250910T201500
DTSTAMP:20260421T043454
CREATED:20250719T214636Z
LAST-MODIFIED:20250719T214636Z
UID:225348-1757531700-1757535300@pacchurch.org
SUMMARY:RISE Teen Ministry
DESCRIPTION:Teens\, attend the RISE Teen group every 1st\, 2nd\, 3rd & 4th Wednesday at 7:15pm.
URL:https://pacchurch.org/event/rise-teen-ministry-68/
LOCATION:Pacific Christian Center Church in Tacoma\, 3211-112th Street East\, Tacoma\, WA\, 98446\, United States
ATTACH;FMTTYPE=image/jpeg:https://media-pacchurch.s3.us-west-2.amazonaws.com/wp-content/uploads/2024/09/19113907/RISE-Update-2024.jpg
END:VEVENT
BEGIN:VEVENT
DTSTART;TZID=America/Los_Angeles:20250910T191500
DTEND;TZID=America/Los_Angeles:20250910T203000
DTSTAMP:20260421T043454
CREATED:20250719T214436Z
LAST-MODIFIED:20250719T214436Z
UID:225346-1757531700-1757536200@pacchurch.org
SUMMARY:Bible Study Service Live Life Now with Pastor Donald and Kathy Shorter!
DESCRIPTION:Bible Study Service Live Life Now with Pastor Donald & Kathy Shorter! Each week at 7:15 p.m.\nJoin them live in person!
URL:https://pacchurch.org/event/bible-study-service-live-life-now-with-pastor-donald-and-kathy-shorter-14/
LOCATION:Pacific Christian Center Church in Tacoma\, 3211-112th Street East\, Tacoma\, WA\, 98446\, United States
ATTACH;FMTTYPE=image/jpeg:https://media-pacchurch.s3.us-west-2.amazonaws.com/wp-content/uploads/2025/06/19113738/IMG_0933.jpeg
END:VEVENT
BEGIN:VEVENT
DTSTART;TZID=America/Los_Angeles:20250914T103000
DTEND;TZID=America/Los_Angeles:20250914T123000
DTSTAMP:20260421T043454
CREATED:20250719T214721Z
LAST-MODIFIED:20250719T214721Z
UID:225350-1757845800-1757853000@pacchurch.org
SUMMARY:Sunday Morning Service
DESCRIPTION:Join us for Sunday morning service this week.
URL:https://pacchurch.org/event/sunday-morning-service-90/
LOCATION:Pacific Christian Center Church in Tacoma\, 3211-112th Street East\, Tacoma\, WA\, 98446\, United States
ATTACH;FMTTYPE=image/png:https://media-pacchurch.s3.us-west-2.amazonaws.com/wp-content/uploads/2022/03/19113953/Sunday-Service-1.png
END:VEVENT
BEGIN:VEVENT
DTSTART;TZID=America/Los_Angeles:20250917T191500
DTEND;TZID=America/Los_Angeles:20250917T201500
DTSTAMP:20260421T043454
CREATED:20250719T214945Z
LAST-MODIFIED:20250719T214945Z
UID:225354-1758136500-1758140100@pacchurch.org
SUMMARY:RISE Teen Ministry
DESCRIPTION:Teens\, attend the RISE Teen group every 1st\, 2nd\, 3rd & 4th Wednesday at 7:15pm.
URL:https://pacchurch.org/event/rise-teen-ministry-69/
LOCATION:Pacific Christian Center Church in Tacoma\, 3211-112th Street East\, Tacoma\, WA\, 98446\, United States
ATTACH;FMTTYPE=image/jpeg:https://media-pacchurch.s3.us-west-2.amazonaws.com/wp-content/uploads/2024/09/19113907/RISE-Update-2024.jpg
END:VEVENT
BEGIN:VEVENT
DTSTART;TZID=America/Los_Angeles:20250917T191500
DTEND;TZID=America/Los_Angeles:20250917T203000
DTSTAMP:20260421T043454
CREATED:20250719T214831Z
LAST-MODIFIED:20250719T214831Z
UID:225352-1758136500-1758141000@pacchurch.org
SUMMARY:Bible Study Service Live Life Now with Pastor Donald and Kathy Shorter!
DESCRIPTION:Bible Study Service Live Life Now with Pastor Donald & Kathy Shorter! Each week at 7:15 p.m.\nJoin them live in person!
URL:https://pacchurch.org/event/bible-study-service-live-life-now-with-pastor-donald-and-kathy-shorter-15/
LOCATION:Pacific Christian Center Church in Tacoma\, 3211-112th Street East\, Tacoma\, WA\, 98446\, United States
ATTACH;FMTTYPE=image/jpeg:https://media-pacchurch.s3.us-west-2.amazonaws.com/wp-content/uploads/2025/06/19113738/IMG_0933.jpeg
END:VEVENT
BEGIN:VEVENT
DTSTART;TZID=America/Los_Angeles:20250921T103000
DTEND;TZID=America/Los_Angeles:20250921T123000
DTSTAMP:20260421T043454
CREATED:20250719T215059Z
LAST-MODIFIED:20250719T215059Z
UID:225356-1758450600-1758457800@pacchurch.org
SUMMARY:Sunday Morning Service
DESCRIPTION:Join us for Sunday morning service this week.
URL:https://pacchurch.org/event/sunday-morning-service-91/
LOCATION:Pacific Christian Center Church in Tacoma\, 3211-112th Street East\, Tacoma\, WA\, 98446\, United States
ATTACH;FMTTYPE=image/png:https://media-pacchurch.s3.us-west-2.amazonaws.com/wp-content/uploads/2022/03/19113953/Sunday-Service-1.png
END:VEVENT
BEGIN:VEVENT
DTSTART;TZID=America/Los_Angeles:20250924T191500
DTEND;TZID=America/Los_Angeles:20250924T201500
DTSTAMP:20260421T043454
CREATED:20250719T215255Z
LAST-MODIFIED:20250719T215255Z
UID:225360-1758741300-1758744900@pacchurch.org
SUMMARY:RISE Teen Ministry
DESCRIPTION:Teens\, attend the RISE Teen group every 1st\, 2nd\, 3rd & 4th Wednesday at 7:15pm.
URL:https://pacchurch.org/event/rise-teen-ministry-70/
LOCATION:Pacific Christian Center Church in Tacoma\, 3211-112th Street East\, Tacoma\, WA\, 98446\, United States
ATTACH;FMTTYPE=image/jpeg:https://media-pacchurch.s3.us-west-2.amazonaws.com/wp-content/uploads/2024/09/19113907/RISE-Update-2024.jpg
END:VEVENT
BEGIN:VEVENT
DTSTART;TZID=America/Los_Angeles:20250924T191500
DTEND;TZID=America/Los_Angeles:20250924T203000
DTSTAMP:20260421T043454
CREATED:20250719T215205Z
LAST-MODIFIED:20250719T215205Z
UID:225358-1758741300-1758745800@pacchurch.org
SUMMARY:Bible Study Service Live Life Now with Pastor Donald and Kathy Shorter!
DESCRIPTION:Bible Study Service Live Life Now with Pastor Donald & Kathy Shorter! Each week at 7:15 p.m.\nJoin them live in person!
URL:https://pacchurch.org/event/bible-study-service-live-life-now-with-pastor-donald-and-kathy-shorter-16/
LOCATION:Pacific Christian Center Church in Tacoma\, 3211-112th Street East\, Tacoma\, WA\, 98446\, United States
ATTACH;FMTTYPE=image/jpeg:https://media-pacchurch.s3.us-west-2.amazonaws.com/wp-content/uploads/2025/06/19113738/IMG_0933.jpeg
END:VEVENT
BEGIN:VEVENT
DTSTART;TZID=America/Los_Angeles:20250926T230000
DTEND;TZID=America/Los_Angeles:20250926T235900
DTSTAMP:20260421T043454
CREATED:20250828T233447Z
LAST-MODIFIED:20250905T052458Z
UID:225516-1758927600-1758931140@pacchurch.org
SUMMARY:Midnight Prayer and Praise
DESCRIPTION:Join us for Midnight Prayer and Praise on select Fridays during the month.\nPlease fast on this day and be ready to hear from the lord and get ready for restoration! Matthew 25: 1 – 13.\n 
URL:https://pacchurch.org/event/midnight-prayer-and-praise-9/
LOCATION:Pacific Christian Center Church in Tacoma\, 3211-112th Street East\, Tacoma\, WA\, 98446\, United States
ATTACH;FMTTYPE=image/jpeg:https://media-pacchurch.s3.us-west-2.amazonaws.com/wp-content/uploads/2025/07/25165511/UPDATED-MIDNIGHT-PRAYER-AND-PRAISE.jpg.jpg
END:VEVENT
BEGIN:VEVENT
DTSTART;TZID=America/Los_Angeles:20250928T103000
DTEND;TZID=America/Los_Angeles:20250928T123000
DTSTAMP:20260421T043454
CREATED:20250719T215425Z
LAST-MODIFIED:20250719T215425Z
UID:225362-1759055400-1759062600@pacchurch.org
SUMMARY:Sunday Morning Service
DESCRIPTION:Join us for Sunday morning service this week.
URL:https://pacchurch.org/event/sunday-morning-service-92/
LOCATION:Pacific Christian Center Church in Tacoma\, 3211-112th Street East\, Tacoma\, WA\, 98446\, United States
ATTACH;FMTTYPE=image/png:https://media-pacchurch.s3.us-west-2.amazonaws.com/wp-content/uploads/2022/03/19113953/Sunday-Service-1.png
END:VEVENT
END:VCALENDAR