BEGIN:VCALENDAR
VERSION:2.0
PRODID:-//Pacific Christian Center Church in Tacoma - ECPv6.15.20//NONSGML v1.0//EN
CALSCALE:GREGORIAN
METHOD:PUBLISH
X-ORIGINAL-URL:https://pacchurch.org
X-WR-CALDESC:Events for Pacific Christian Center Church in Tacoma
REFRESH-INTERVAL;VALUE=DURATION:PT1H
X-Robots-Tag:noindex
X-PUBLISHED-TTL:PT1H
BEGIN:VTIMEZONE
TZID:America/Los_Angeles
BEGIN:DAYLIGHT
TZOFFSETFROM:-0800
TZOFFSETTO:-0700
TZNAME:PDT
DTSTART:20250309T100000
END:DAYLIGHT
BEGIN:STANDARD
TZOFFSETFROM:-0700
TZOFFSETTO:-0800
TZNAME:PST
DTSTART:20251102T090000
END:STANDARD
BEGIN:DAYLIGHT
TZOFFSETFROM:-0800
TZOFFSETTO:-0700
TZNAME:PDT
DTSTART:20260308T100000
END:DAYLIGHT
BEGIN:STANDARD
TZOFFSETFROM:-0700
TZOFFSETTO:-0800
TZNAME:PST
DTSTART:20261101T090000
END:STANDARD
BEGIN:DAYLIGHT
TZOFFSETFROM:-0800
TZOFFSETTO:-0700
TZNAME:PDT
DTSTART:20270314T100000
END:DAYLIGHT
BEGIN:STANDARD
TZOFFSETFROM:-0700
TZOFFSETTO:-0800
TZNAME:PST
DTSTART:20271107T090000
END:STANDARD
END:VTIMEZONE
BEGIN:VEVENT
DTSTART;TZID=America/Los_Angeles:20260605T230000
DTEND;TZID=America/Los_Angeles:20260605T235900
DTSTAMP:20260425T084553
CREATED:20260117T202648Z
LAST-MODIFIED:20260304T010505Z
UID:227207-1780700400-1780703940@pacchurch.org
SUMMARY:Midnight Prayer and Praise
DESCRIPTION:Join us for Midnight Prayer and Praise on select Fridays during the month.\nPlease fast on this day and be ready to hear from the Lord and get ready for restoration! Matthew 25: 1 – 13.\n 
URL:https://pacchurch.org/event/midnight-prayer-and-praise-15/
LOCATION:Pacific Christian Center Church in Tacoma\, 3211-112th Street East\, Tacoma\, WA\, 98446\, United States
ATTACH;FMTTYPE=image/jpeg:https://media-pacchurch.s3.us-west-2.amazonaws.com/wp-content/uploads/2025/07/25165511/UPDATED-MIDNIGHT-PRAYER-AND-PRAISE.jpg.jpg
END:VEVENT
BEGIN:VEVENT
DTSTART;TZID=America/Los_Angeles:20260607T103000
DTEND;TZID=America/Los_Angeles:20260607T123000
DTSTAMP:20260425T084553
CREATED:20260117T192847Z
LAST-MODIFIED:20260304T012456Z
UID:227179-1780828200-1780835400@pacchurch.org
SUMMARY:Sunday Morning Service
DESCRIPTION:Join us for Sunday morning service this week.
URL:https://pacchurch.org/event/sunday-morning-service-119/
LOCATION:Pacific Christian Center Church in Tacoma\, 3211-112th Street East\, Tacoma\, WA\, 98446\, United States
ATTACH;FMTTYPE=image/png:https://media-pacchurch.s3.us-west-2.amazonaws.com/wp-content/uploads/2022/03/19113953/Sunday-Service-1.png
END:VEVENT
BEGIN:VEVENT
DTSTART;TZID=America/Los_Angeles:20260610T191500
DTEND;TZID=America/Los_Angeles:20260610T203000
DTSTAMP:20260425T084553
CREATED:20260425T150043Z
LAST-MODIFIED:20260425T150043Z
UID:228061-1781118900-1781123400@pacchurch.org
SUMMARY:Bible Study with "Don and Kathy Live!"
DESCRIPTION:Attend Bible Study Service with “Don and Kathy Live” with Pastor Donald and Kathy Shorter! Each week at 7:15 p.m.\nJoin them live in person!
URL:https://pacchurch.org/event/bible-study-with-don-and-kathy-live-12/
LOCATION:Pacific Christian Center Church in Tacoma\, 3211-112th Street East\, Tacoma\, WA\, 98446\, United States
ATTACH;FMTTYPE=image/png:https://media-pacchurch.s3.us-west-2.amazonaws.com/wp-content/uploads/2026/01/14160137/DKBibleStudy-scaled.png
END:VEVENT
BEGIN:VEVENT
DTSTART;TZID=America/Los_Angeles:20260614T103000
DTEND;TZID=America/Los_Angeles:20260614T123000
DTSTAMP:20260425T084553
CREATED:20260425T145918Z
LAST-MODIFIED:20260425T145918Z
UID:228059-1781433000-1781440200@pacchurch.org
SUMMARY:Sunday Morning Service
DESCRIPTION:Join us for Sunday morning service this week.
URL:https://pacchurch.org/event/sunday-morning-service-128/
LOCATION:Pacific Christian Center Church in Tacoma\, 3211-112th Street East\, Tacoma\, WA\, 98446\, United States
ATTACH;FMTTYPE=image/png:https://media-pacchurch.s3.us-west-2.amazonaws.com/wp-content/uploads/2022/03/19113953/Sunday-Service-1.png
END:VEVENT
BEGIN:VEVENT
DTSTART;TZID=America/Los_Angeles:20260617T190000
DTEND;TZID=America/Los_Angeles:20260617T203000
DTSTAMP:20260425T084553
CREATED:20260425T152218Z
LAST-MODIFIED:20260425T152218Z
UID:228063-1781722800-1781728200@pacchurch.org
SUMMARY:Wednesday Empowered with the Word!
DESCRIPTION:Join us Wednesday for Empowered with the Word with Jesse Duplantis\nJoin them live in person or on their live stream at PacChurch.org.\n 
URL:https://pacchurch.org/event/wednesday-empowered-with-the-word/
LOCATION:Pacific Christian Center Church in Tacoma\, 3211-112th Street East\, Tacoma\, WA\, 98446\, United States
END:VEVENT
BEGIN:VEVENT
DTSTART;TZID=America/Los_Angeles:20260621T103000
DTEND;TZID=America/Los_Angeles:20260621T123000
DTSTAMP:20260425T084553
CREATED:20260425T152426Z
LAST-MODIFIED:20260425T152426Z
UID:228065-1782037800-1782045000@pacchurch.org
SUMMARY:Sunday Morning Service
DESCRIPTION:Join us for Sunday morning service this week.
URL:https://pacchurch.org/event/sunday-morning-service-129/
LOCATION:Pacific Christian Center Church in Tacoma\, 3211-112th Street East\, Tacoma\, WA\, 98446\, United States
ATTACH;FMTTYPE=image/png:https://media-pacchurch.s3.us-west-2.amazonaws.com/wp-content/uploads/2022/03/19113953/Sunday-Service-1.png
END:VEVENT
BEGIN:VEVENT
DTSTART;TZID=America/Los_Angeles:20260621T140000
DTEND;TZID=America/Los_Angeles:20260621T180000
DTSTAMP:20260425T084553
CREATED:20260425T152944Z
LAST-MODIFIED:20260425T152944Z
UID:228067-1782050400-1782064800@pacchurch.org
SUMMARY:Sunday Dads The Park and Me
DESCRIPTION:Join us Sunday\, June 17 for Dads the Park and Me at Dune Peninsula after Father’s Day service.\nRead the Press Release to learn more about the vision. \nVisit NorthcoDevelopment.org to learn more. \n 
URL:https://pacchurch.org/event/sunday-dads-the-park-and-me-2/
LOCATION:Dune Peninsula\, 5361 Yacht Club Rd\, Tacoma\, w\, 98407\, United States
END:VEVENT
BEGIN:VEVENT
DTSTART;TZID=America/Los_Angeles:20260624T191500
DTEND;TZID=America/Los_Angeles:20260624T203000
DTSTAMP:20260425T084553
CREATED:20260425T153135Z
LAST-MODIFIED:20260425T153135Z
UID:228069-1782328500-1782333000@pacchurch.org
SUMMARY:Bible Study with "Don and Kathy Live!"
DESCRIPTION:Attend Bible Study Service with “Don and Kathy Live” with Pastor Donald and Kathy Shorter! Each week at 7:15 p.m.\nJoin them live in person!
URL:https://pacchurch.org/event/bible-study-with-don-and-kathy-live-13/
LOCATION:Pacific Christian Center Church in Tacoma\, 3211-112th Street East\, Tacoma\, WA\, 98446\, United States
ATTACH;FMTTYPE=image/png:https://media-pacchurch.s3.us-west-2.amazonaws.com/wp-content/uploads/2026/01/14160137/DKBibleStudy-scaled.png
END:VEVENT
BEGIN:VEVENT
DTSTART;TZID=America/Los_Angeles:20260628T103000
DTEND;TZID=America/Los_Angeles:20260628T123000
DTSTAMP:20260425T084553
CREATED:20260425T153323Z
LAST-MODIFIED:20260425T153323Z
UID:228071-1782642600-1782649800@pacchurch.org
SUMMARY:Sunday Morning Service
DESCRIPTION:Join us for Sunday morning service this week.
URL:https://pacchurch.org/event/sunday-morning-service-130/
LOCATION:Pacific Christian Center Church in Tacoma\, 3211-112th Street East\, Tacoma\, WA\, 98446\, United States
ATTACH;FMTTYPE=image/png:https://media-pacchurch.s3.us-west-2.amazonaws.com/wp-content/uploads/2022/03/19113953/Sunday-Service-1.png
END:VEVENT
END:VCALENDAR