BEGIN:VCALENDAR
VERSION:2.0
PRODID:-//Pacific Christian Center Church in Tacoma - ECPv6.15.17.1//NONSGML v1.0//EN
CALSCALE:GREGORIAN
METHOD:PUBLISH
X-WR-CALNAME:Pacific Christian Center Church in Tacoma
X-ORIGINAL-URL:https://pacchurch.org
X-WR-CALDESC:Events for Pacific Christian Center Church in Tacoma
REFRESH-INTERVAL;VALUE=DURATION:PT1H
X-Robots-Tag:noindex
X-PUBLISHED-TTL:PT1H
BEGIN:VTIMEZONE
TZID:America/Los_Angeles
BEGIN:DAYLIGHT
TZOFFSETFROM:-0800
TZOFFSETTO:-0700
TZNAME:PDT
DTSTART:20250309T100000
END:DAYLIGHT
BEGIN:STANDARD
TZOFFSETFROM:-0700
TZOFFSETTO:-0800
TZNAME:PST
DTSTART:20251102T090000
END:STANDARD
BEGIN:DAYLIGHT
TZOFFSETFROM:-0800
TZOFFSETTO:-0700
TZNAME:PDT
DTSTART:20260308T100000
END:DAYLIGHT
BEGIN:STANDARD
TZOFFSETFROM:-0700
TZOFFSETTO:-0800
TZNAME:PST
DTSTART:20261101T090000
END:STANDARD
BEGIN:DAYLIGHT
TZOFFSETFROM:-0800
TZOFFSETTO:-0700
TZNAME:PDT
DTSTART:20270314T100000
END:DAYLIGHT
BEGIN:STANDARD
TZOFFSETFROM:-0700
TZOFFSETTO:-0800
TZNAME:PST
DTSTART:20271107T090000
END:STANDARD
END:VTIMEZONE
BEGIN:VEVENT
DTSTART;TZID=America/Los_Angeles:20260429T191500
DTEND;TZID=America/Los_Angeles:20260429T203000
DTSTAMP:20260423T012352
CREATED:20260117T200201Z
LAST-MODIFIED:20260307T201210Z
UID:227195-1777490100-1777494600@pacchurch.org
SUMMARY:Bible Study with "Don and Kathy Live"
DESCRIPTION:Attend Bible Study Service with “Don and Kathy Live” with Pastor Donald and Kathy Shorter! Each week at 7:15 p.m.\nJoin them live in person!
URL:https://pacchurch.org/event/bible-study-with-don-and-kathy-live-6/
LOCATION:Pacific Christian Center Church in Tacoma\, 3211-112th Street East\, Tacoma\, WA\, 98446\, United States
ATTACH;FMTTYPE=image/png:https://pacchurch.org/wp-content/uploads/2025/12/Podcast-Screen_1-scaled.png
END:VEVENT
BEGIN:VEVENT
DTSTART;TZID=America/Los_Angeles:20260501T193000
DTEND;TZID=America/Los_Angeles:20260501T210000
DTSTAMP:20260423T012352
CREATED:20260221T222541Z
LAST-MODIFIED:20260423T014541Z
UID:227346-1777663800-1777669200@pacchurch.org
SUMMARY:Northwest City Services
DESCRIPTION:Register for May 1\, Vancouver Northwest City Service  \nBe part of an exciting new beginning. Join Drs. Donald and Kathy Shorter in Vancouver\, WA for inspiration\, leadership\, and connection.\nHilton Hotel Convention Center\, 301 W. 6th St\, Vancouver\, WA 98660\nFriday\, May 1 at 7:30 PM – FREE Service\nEvery evening city service is free. A free will offering will be received. \nJoin your friends along with authors\, television and Podcast Hosts\, and anointed ministers of the Gospel\, Drs Donald and Kathy Shorter at the upcoming Northwest City Church Service\, one night event\, May 1st at 7:30pm\, at the Vancouver / Portland Convention Center in Vancouver Washington. \nYou’ll hear the powerful testimony from Dr. Donald Shorter Sr. a successful businessman\, commercial pilot\, and Founding Pastor of Pacific Christian Center in Seattle / Tacoma\, WA\, on how he was drugged while being treated in a Pacific Northwest hospital after undergoing two surgeries and was sent into nearly seven years of HELL\, as he experience near death experiences THREE different times. During his time of ailment and the enemy’s attack on his physical body from being drugged while being treated in the hospital\, God allow Dr. Shorter to visit through the spiritual realm\, Hades (the holding place of the dead)\, the Bottomless Pit (while experiencing the sensation of falling for 2 1/2 days)\, seeing the Lake of Fire (while being suspended above it)\, as well as appearing in a vision at the Emerald Gate of Heaven and much more. Then the Lord told Dr. Shorter to return and tell people what he saw\, with a special message to share with everyone that will listen…. “Don”t Go To Hell… Heaven Is Better!” \nYou’ll also enjoy the anointed music of Anthony Allen of the PCC singers and receive healing\, deliverance \, and encouragement from the anointed Word of God at this one night only event with Drs Donald and Kathy Shorter at the upcoming City Church service happening in a city near you\, as well as in cities all over the Northwest throughout this year. Join Drs Don and Kathy Shorter and their ministry team ministering from city to city bringing the glad tidings of great joy. \nCome expecting to receive by faith and leave with a fresh anointing from the Spirit of God. Register for free and come to receive the Word of Faith through the Power of God. Don’t miss this event! See you Friday May 1st. 2026. \nFor more details visit: www.PacChurch.org or NorthcoDevelopment.org\nNorthwest City Services
URL:https://pacchurch.org/event/northwest-city-services/
LOCATION:Hilton Hotel Convention Center\,\, 301 W. 6th St\, Vancouver\, 98660\, United States
ATTACH;FMTTYPE=image/jpeg:https://media-pacchurch.s3.us-west-2.amazonaws.com/wp-content/uploads/2026/04/22181014/Vancouver-WA2.jpg
END:VEVENT
BEGIN:VEVENT
DTSTART;TZID=America/Los_Angeles:20260503T103000
DTEND;TZID=America/Los_Angeles:20260503T123000
DTSTAMP:20260423T012352
CREATED:20260221T222417Z
LAST-MODIFIED:20260221T222417Z
UID:227344-1777804200-1777811400@pacchurch.org
SUMMARY:Sunday Morning Service
DESCRIPTION:Join us for Sunday morning service this week.
URL:https://pacchurch.org/event/sunday-morning-service-123/
LOCATION:Pacific Christian Center Church in Tacoma\, 3211-112th Street East\, Tacoma\, WA\, 98446\, United States
ATTACH;FMTTYPE=image/png:https://media-pacchurch.s3.us-west-2.amazonaws.com/wp-content/uploads/2022/03/19113953/Sunday-Service-1.png
END:VEVENT
BEGIN:VEVENT
DTSTART;TZID=America/Los_Angeles:20260503T183000
DTEND;TZID=America/Los_Angeles:20260503T200000
DTSTAMP:20260423T012352
CREATED:20260221T223315Z
LAST-MODIFIED:20260221T223315Z
UID:227354-1777833000-1777838400@pacchurch.org
SUMMARY:Communion Service
DESCRIPTION:Join us for Communion service.
URL:https://pacchurch.org/event/communion-service-23/
LOCATION:Pacific Christian Center Church in Tacoma\, 3211-112th Street East\, Tacoma\, WA\, 98446\, United States
ATTACH;FMTTYPE=image/jpeg:https://media-pacchurch.s3.us-west-2.amazonaws.com/wp-content/uploads/2024/05/19113911/Communion.jpg
END:VEVENT
BEGIN:VEVENT
DTSTART;TZID=America/Los_Angeles:20260506T191500
DTEND;TZID=America/Los_Angeles:20260506T201500
DTSTAMP:20260423T012352
CREATED:20260221T222955Z
LAST-MODIFIED:20260221T222955Z
UID:227350-1778094900-1778098500@pacchurch.org
SUMMARY:RISE Teen Ministry
DESCRIPTION:Teens\, attend the RISE Teen group every 1st\, 2nd\, 3rd & 4th Wednesday at 7:15pm.
URL:https://pacchurch.org/event/rise-teen-ministry-98/
LOCATION:Pacific Christian Center Church in Tacoma\, 3211-112th Street East\, Tacoma\, WA\, 98446\, United States
ATTACH;FMTTYPE=image/jpeg:https://media-pacchurch.s3.us-west-2.amazonaws.com/wp-content/uploads/2024/09/19113907/RISE-Update-2024.jpg
END:VEVENT
BEGIN:VEVENT
DTSTART;TZID=America/Los_Angeles:20260506T191500
DTEND;TZID=America/Los_Angeles:20260506T203000
DTSTAMP:20260423T012352
CREATED:20260221T222752Z
LAST-MODIFIED:20260323T003809Z
UID:227348-1778094900-1778099400@pacchurch.org
SUMMARY:Bible Study with "Don and Kathy Live!"
DESCRIPTION:Attend Bible Study Service with “Don and Kathy Live” with Pastor Donald and Kathy Shorter! Each week at 7:15 p.m.\nJoin them live in person!
URL:https://pacchurch.org/event/bible-study-with-don-and-kathy-live-7/
LOCATION:Pacific Christian Center Church in Tacoma\, 3211-112th Street East\, Tacoma\, WA\, 98446\, United States
ATTACH;FMTTYPE=image/png:https://media-pacchurch.s3.us-west-2.amazonaws.com/wp-content/uploads/2026/01/14160137/DKBibleStudy-scaled.png
END:VEVENT
BEGIN:VEVENT
DTSTART;TZID=America/Los_Angeles:20260510T103000
DTEND;TZID=America/Los_Angeles:20260510T123000
DTSTAMP:20260423T012352
CREATED:20260221T223129Z
LAST-MODIFIED:20260221T223129Z
UID:227352-1778409000-1778416200@pacchurch.org
SUMMARY:Sunday Morning Service
DESCRIPTION:Join us for Sunday morning service this week.
URL:https://pacchurch.org/event/sunday-morning-service-124/
LOCATION:Pacific Christian Center Church in Tacoma\, 3211-112th Street East\, Tacoma\, WA\, 98446\, United States
ATTACH;FMTTYPE=image/png:https://media-pacchurch.s3.us-west-2.amazonaws.com/wp-content/uploads/2022/03/19113953/Sunday-Service-1.png
END:VEVENT
BEGIN:VEVENT
DTSTART;TZID=America/Los_Angeles:20260510T103000
DTEND;TZID=America/Los_Angeles:20260510T123000
DTSTAMP:20260423T012352
CREATED:20260423T052639Z
LAST-MODIFIED:20260423T052639Z
UID:228048-1778409000-1778416200@pacchurch.org
SUMMARY:Mother's Day Service
DESCRIPTION:Join us for a Mother’s Day service at Pacific Christian Center Church as we celebrate special Mother’s in our lives.
URL:https://pacchurch.org/event/mothers-day-service/
LOCATION:Pacific Christian Center Church in Tacoma\, 3211-112th Street East\, Tacoma\, WA\, 98446\, United States
ATTACH;FMTTYPE=image/jpeg:https://media-pacchurch.s3.us-west-2.amazonaws.com/wp-content/uploads/2026/04/22221754/HAPPY-MOTHERS-DAY1.jpg
END:VEVENT
BEGIN:VEVENT
DTSTART;TZID=America/Los_Angeles:20260513T191500
DTEND;TZID=America/Los_Angeles:20260513T201500
DTSTAMP:20260423T012352
CREATED:20260221T223657Z
LAST-MODIFIED:20260221T223657Z
UID:227358-1778699700-1778703300@pacchurch.org
SUMMARY:RISE Teen Ministry
DESCRIPTION:Teens\, attend the RISE Teen group every 1st\, 2nd\, 3rd & 4th Wednesday at 7:15pm.
URL:https://pacchurch.org/event/rise-teen-ministry-99/
LOCATION:Pacific Christian Center Church in Tacoma\, 3211-112th Street East\, Tacoma\, WA\, 98446\, United States
ATTACH;FMTTYPE=image/jpeg:https://media-pacchurch.s3.us-west-2.amazonaws.com/wp-content/uploads/2024/09/19113907/RISE-Update-2024.jpg
END:VEVENT
BEGIN:VEVENT
DTSTART;TZID=America/Los_Angeles:20260513T191500
DTEND;TZID=America/Los_Angeles:20260513T203000
DTSTAMP:20260423T012352
CREATED:20260221T223529Z
LAST-MODIFIED:20260323T003945Z
UID:227356-1778699700-1778704200@pacchurch.org
SUMMARY:Bible Study with "Don and Kathy Live!"
DESCRIPTION:Attend Bible Study Service with “Don and Kathy Live” with Pastor Donald and Kathy Shorter! Each week at 7:15 p.m.\nJoin them live in person!
URL:https://pacchurch.org/event/bible-study-with-don-and-kathy-live-8/
LOCATION:Pacific Christian Center Church in Tacoma\, 3211-112th Street East\, Tacoma\, WA\, 98446\, United States
ATTACH;FMTTYPE=image/png:https://media-pacchurch.s3.us-west-2.amazonaws.com/wp-content/uploads/2026/01/14160137/DKBibleStudy-scaled.png
END:VEVENT
BEGIN:VEVENT
DTSTART;TZID=America/Los_Angeles:20260517T103000
DTEND;TZID=America/Los_Angeles:20260517T123000
DTSTAMP:20260423T012352
CREATED:20260221T223808Z
LAST-MODIFIED:20260221T223808Z
UID:227360-1779013800-1779021000@pacchurch.org
SUMMARY:Sunday Morning Service
DESCRIPTION:Join us for Sunday morning service this week.
URL:https://pacchurch.org/event/sunday-morning-service-125/
LOCATION:Pacific Christian Center Church in Tacoma\, 3211-112th Street East\, Tacoma\, WA\, 98446\, United States
ATTACH;FMTTYPE=image/png:https://media-pacchurch.s3.us-west-2.amazonaws.com/wp-content/uploads/2022/03/19113953/Sunday-Service-1.png
END:VEVENT
BEGIN:VEVENT
DTSTART;TZID=America/Los_Angeles:20260520T191500
DTEND;TZID=America/Los_Angeles:20260520T201500
DTSTAMP:20260423T012352
CREATED:20260221T224055Z
LAST-MODIFIED:20260221T224055Z
UID:227364-1779304500-1779308100@pacchurch.org
SUMMARY:RISE Teen Ministry
DESCRIPTION:Teens\, attend the RISE Teen group every 1st\, 2nd\, 3rd & 4th Wednesday at 7:15pm.
URL:https://pacchurch.org/event/rise-teen-ministry-100/
LOCATION:Pacific Christian Center Church in Tacoma\, 3211-112th Street East\, Tacoma\, WA\, 98446\, United States
ATTACH;FMTTYPE=image/jpeg:https://media-pacchurch.s3.us-west-2.amazonaws.com/wp-content/uploads/2024/09/19113907/RISE-Update-2024.jpg
END:VEVENT
BEGIN:VEVENT
DTSTART;TZID=America/Los_Angeles:20260520T191500
DTEND;TZID=America/Los_Angeles:20260520T203000
DTSTAMP:20260423T012352
CREATED:20260221T224005Z
LAST-MODIFIED:20260323T004225Z
UID:227362-1779304500-1779309000@pacchurch.org
SUMMARY:Bible Study with "Don and Kathy Live!"
DESCRIPTION:Attend Bible Study Service with “Don and Kathy Live” with Pastor Donald and Kathy Shorter! Each week at 7:15 p.m.\nJoin them live in person!
URL:https://pacchurch.org/event/bible-study-with-don-and-kathy-live-9/
LOCATION:Pacific Christian Center Church in Tacoma\, 3211-112th Street East\, Tacoma\, WA\, 98446\, United States
ATTACH;FMTTYPE=image/png:https://media-pacchurch.s3.us-west-2.amazonaws.com/wp-content/uploads/2026/01/14160137/DKBibleStudy-scaled.png
END:VEVENT
BEGIN:VEVENT
DTSTART;TZID=America/Los_Angeles:20260524T103000
DTEND;TZID=America/Los_Angeles:20260524T123000
DTSTAMP:20260423T012352
CREATED:20260221T224205Z
LAST-MODIFIED:20260221T224205Z
UID:227366-1779618600-1779625800@pacchurch.org
SUMMARY:Sunday Morning Service
DESCRIPTION:Join us for Sunday morning service this week.
URL:https://pacchurch.org/event/sunday-morning-service-126/
LOCATION:Pacific Christian Center Church in Tacoma\, 3211-112th Street East\, Tacoma\, WA\, 98446\, United States
ATTACH;FMTTYPE=image/png:https://media-pacchurch.s3.us-west-2.amazonaws.com/wp-content/uploads/2022/03/19113953/Sunday-Service-1.png
END:VEVENT
BEGIN:VEVENT
DTSTART;TZID=America/Los_Angeles:20260527T191500
DTEND;TZID=America/Los_Angeles:20260527T201500
DTSTAMP:20260423T012352
CREATED:20260221T224438Z
LAST-MODIFIED:20260221T224438Z
UID:227370-1779909300-1779912900@pacchurch.org
SUMMARY:RISE Teen Ministry
DESCRIPTION:Teens\, attend the RISE Teen group every 1st\, 2nd\, 3rd & 4th Wednesday at 7:15pm.
URL:https://pacchurch.org/event/rise-teen-ministry-101/
LOCATION:Pacific Christian Center Church in Tacoma\, 3211-112th Street East\, Tacoma\, WA\, 98446\, United States
ATTACH;FMTTYPE=image/jpeg:https://media-pacchurch.s3.us-west-2.amazonaws.com/wp-content/uploads/2024/09/19113907/RISE-Update-2024.jpg
END:VEVENT
BEGIN:VEVENT
DTSTART;TZID=America/Los_Angeles:20260527T191500
DTEND;TZID=America/Los_Angeles:20260527T203000
DTSTAMP:20260423T012352
CREATED:20260221T224327Z
LAST-MODIFIED:20260323T004539Z
UID:227368-1779909300-1779913800@pacchurch.org
SUMMARY:Bible Study with "Don and Kathy Live!"
DESCRIPTION:Attend Bible Study Service with “Don and Kathy Live” with Pastor Donald and Kathy Shorter! Each week at 7:15 p.m.\nJoin them live in person!
URL:https://pacchurch.org/event/bible-study-with-don-and-kathy-live-10/
LOCATION:Pacific Christian Center Church in Tacoma\, 3211-112th Street East\, Tacoma\, WA\, 98446\, United States
ATTACH;FMTTYPE=image/png:https://media-pacchurch.s3.us-west-2.amazonaws.com/wp-content/uploads/2026/01/14160137/DKBibleStudy-scaled.png
END:VEVENT
BEGIN:VEVENT
DTSTART;TZID=America/Los_Angeles:20260531T103000
DTEND;TZID=America/Los_Angeles:20260531T123000
DTSTAMP:20260423T012352
CREATED:20260221T224558Z
LAST-MODIFIED:20260221T224558Z
UID:227372-1780223400-1780230600@pacchurch.org
SUMMARY:Sunday Morning Service
DESCRIPTION:Join us for Sunday morning service this week.
URL:https://pacchurch.org/event/sunday-morning-service-127/
LOCATION:Pacific Christian Center Church in Tacoma\, 3211-112th Street East\, Tacoma\, WA\, 98446\, United States
ATTACH;FMTTYPE=image/png:https://media-pacchurch.s3.us-west-2.amazonaws.com/wp-content/uploads/2022/03/19113953/Sunday-Service-1.png
END:VEVENT
BEGIN:VEVENT
DTSTART;TZID=America/Los_Angeles:20260605T230000
DTEND;TZID=America/Los_Angeles:20260605T235900
DTSTAMP:20260423T012352
CREATED:20260117T202648Z
LAST-MODIFIED:20260304T010505Z
UID:227207-1780700400-1780703940@pacchurch.org
SUMMARY:Midnight Prayer and Praise
DESCRIPTION:Join us for Midnight Prayer and Praise on select Fridays during the month.\nPlease fast on this day and be ready to hear from the Lord and get ready for restoration! Matthew 25: 1 – 13.\n 
URL:https://pacchurch.org/event/midnight-prayer-and-praise-15/
LOCATION:Pacific Christian Center Church in Tacoma\, 3211-112th Street East\, Tacoma\, WA\, 98446\, United States
ATTACH;FMTTYPE=image/jpeg:https://media-pacchurch.s3.us-west-2.amazonaws.com/wp-content/uploads/2025/07/25165511/UPDATED-MIDNIGHT-PRAYER-AND-PRAISE.jpg.jpg
END:VEVENT
BEGIN:VEVENT
DTSTART;TZID=America/Los_Angeles:20260607T103000
DTEND;TZID=America/Los_Angeles:20260607T123000
DTSTAMP:20260423T012352
CREATED:20260117T192847Z
LAST-MODIFIED:20260304T012456Z
UID:227179-1780828200-1780835400@pacchurch.org
SUMMARY:Sunday Morning Service
DESCRIPTION:Join us for Sunday morning service this week.
URL:https://pacchurch.org/event/sunday-morning-service-119/
LOCATION:Pacific Christian Center Church in Tacoma\, 3211-112th Street East\, Tacoma\, WA\, 98446\, United States
ATTACH;FMTTYPE=image/png:https://media-pacchurch.s3.us-west-2.amazonaws.com/wp-content/uploads/2022/03/19113953/Sunday-Service-1.png
END:VEVENT
END:VCALENDAR