BEGIN:VCALENDAR
VERSION:2.0
PRODID:-//Pacific Christian Center Church in Tacoma - ECPv6.15.20//NONSGML v1.0//EN
CALSCALE:GREGORIAN
METHOD:PUBLISH
X-ORIGINAL-URL:https://pacchurch.org
X-WR-CALDESC:Events for Pacific Christian Center Church in Tacoma
REFRESH-INTERVAL;VALUE=DURATION:PT1H
X-Robots-Tag:noindex
X-PUBLISHED-TTL:PT1H
BEGIN:VTIMEZONE
TZID:America/Los_Angeles
BEGIN:DAYLIGHT
TZOFFSETFROM:-0800
TZOFFSETTO:-0700
TZNAME:PDT
DTSTART:20250309T100000
END:DAYLIGHT
BEGIN:STANDARD
TZOFFSETFROM:-0700
TZOFFSETTO:-0800
TZNAME:PST
DTSTART:20251102T090000
END:STANDARD
BEGIN:DAYLIGHT
TZOFFSETFROM:-0800
TZOFFSETTO:-0700
TZNAME:PDT
DTSTART:20260308T100000
END:DAYLIGHT
BEGIN:STANDARD
TZOFFSETFROM:-0700
TZOFFSETTO:-0800
TZNAME:PST
DTSTART:20261101T090000
END:STANDARD
BEGIN:DAYLIGHT
TZOFFSETFROM:-0800
TZOFFSETTO:-0700
TZNAME:PDT
DTSTART:20270314T100000
END:DAYLIGHT
BEGIN:STANDARD
TZOFFSETFROM:-0700
TZOFFSETTO:-0800
TZNAME:PST
DTSTART:20271107T090000
END:STANDARD
END:VTIMEZONE
BEGIN:VEVENT
DTSTART;TZID=America/Los_Angeles:20260624T191500
DTEND;TZID=America/Los_Angeles:20260624T203000
DTSTAMP:20260425T085524
CREATED:20260425T153135Z
LAST-MODIFIED:20260425T153135Z
UID:228069-1782328500-1782333000@pacchurch.org
SUMMARY:Bible Study with "Don and Kathy Live!"
DESCRIPTION:Attend Bible Study Service with “Don and Kathy Live” with Pastor Donald and Kathy Shorter! Each week at 7:15 p.m.\nJoin them live in person!
URL:https://pacchurch.org/event/bible-study-with-don-and-kathy-live-13/
LOCATION:Pacific Christian Center Church in Tacoma\, 3211-112th Street East\, Tacoma\, WA\, 98446\, United States
ATTACH;FMTTYPE=image/png:https://media-pacchurch.s3.us-west-2.amazonaws.com/wp-content/uploads/2026/01/14160137/DKBibleStudy-scaled.png
END:VEVENT
BEGIN:VEVENT
DTSTART;TZID=America/Los_Angeles:20260628T103000
DTEND;TZID=America/Los_Angeles:20260628T123000
DTSTAMP:20260425T085524
CREATED:20260425T153323Z
LAST-MODIFIED:20260425T153323Z
UID:228071-1782642600-1782649800@pacchurch.org
SUMMARY:Sunday Morning Service
DESCRIPTION:Join us for Sunday morning service this week.
URL:https://pacchurch.org/event/sunday-morning-service-130/
LOCATION:Pacific Christian Center Church in Tacoma\, 3211-112th Street East\, Tacoma\, WA\, 98446\, United States
ATTACH;FMTTYPE=image/png:https://media-pacchurch.s3.us-west-2.amazonaws.com/wp-content/uploads/2022/03/19113953/Sunday-Service-1.png
END:VEVENT
END:VCALENDAR