BEGIN:VCALENDAR
VERSION:2.0
PRODID:-//Pacific Christian Center Church in Tacoma - ECPv6.15.17.1//NONSGML v1.0//EN
CALSCALE:GREGORIAN
METHOD:PUBLISH
X-WR-CALNAME:Pacific Christian Center Church in Tacoma
X-ORIGINAL-URL:https://pacchurch.org
X-WR-CALDESC:Events for Pacific Christian Center Church in Tacoma
REFRESH-INTERVAL;VALUE=DURATION:PT1H
X-Robots-Tag:noindex
X-PUBLISHED-TTL:PT1H
BEGIN:VTIMEZONE
TZID:America/Los_Angeles
BEGIN:DAYLIGHT
TZOFFSETFROM:-0800
TZOFFSETTO:-0700
TZNAME:PDT
DTSTART:20240310T100000
END:DAYLIGHT
BEGIN:STANDARD
TZOFFSETFROM:-0700
TZOFFSETTO:-0800
TZNAME:PST
DTSTART:20241103T090000
END:STANDARD
BEGIN:DAYLIGHT
TZOFFSETFROM:-0800
TZOFFSETTO:-0700
TZNAME:PDT
DTSTART:20250309T100000
END:DAYLIGHT
BEGIN:STANDARD
TZOFFSETFROM:-0700
TZOFFSETTO:-0800
TZNAME:PST
DTSTART:20251102T090000
END:STANDARD
BEGIN:DAYLIGHT
TZOFFSETFROM:-0800
TZOFFSETTO:-0700
TZNAME:PDT
DTSTART:20260308T100000
END:DAYLIGHT
BEGIN:STANDARD
TZOFFSETFROM:-0700
TZOFFSETTO:-0800
TZNAME:PST
DTSTART:20261101T090000
END:STANDARD
END:VTIMEZONE
BEGIN:VEVENT
DTSTART;TZID=America/Los_Angeles:20251018T100000
DTEND;TZID=America/Los_Angeles:20251018T150000
DTSTAMP:20260421T043335
CREATED:20250909T001630Z
LAST-MODIFIED:20250917T040631Z
UID:2398-1760781600-1760799600@pacchurch.org
SUMMARY:Future Aviator Pilots
DESCRIPTION:Future Aviator Pilots One Day Camps\, courses and career opportunity tours and training.\nFuture Aviator Pilots Youth Camps and S.T.E.M. Centered courses are designed to identify\, engage\, inform and train students and youth of all backgrounds in the world of aviation. Students between the 3rd and 10th Grades are encouraged to participate in the various aviation one day camps\, afterschool aviation preparation courses.\nThe Future Aviator Flight Training Crews have recently added Aviaton Career Opportunity Tours & Training for adults considering aviation as a per of their personal\, business\, career or future family recreational horizons. Courses are presented throughout the year on various training disciplines for inquiring adults that are ready to either explore aviation as a recreation\, supplement and compliment to their business\, assistance for their church or ministry\, looking to accomplish an Aviation area they have always been interested in or looking to make a complete career change into some area of aviation or aerospace. Get prepared\, informed and get your questions answered while meeting aviation industry experts and touring aviation facilities\, aircraft\, airports and maintenance or manufacturing facilities. Wonder no more\, learn what your future in aviation could be like without wasting time or spending lots of money to get the simple aviation answers you need to make important aviation decisions to help you personally\, your family\, your business or even your future employment. Register for the next Future Aviator Pilot Opportunity and Career Training and Tours. Visit www.NorthcoDevelopment.org for course scheduling information. \nhttps://www.eventbrite.com/e/students-join-the-future-aviator-pilots-one-day-camp-oct18th-10a-3pm-tickets-1636441363169
URL:https://pacchurch.org/event/future-aviator-pilots/
LOCATION:Boeing Field\, Seattle Washington\, 7277 Perimeter Rd S\, Seattle\, WA\, 98108\, United States
ATTACH;FMTTYPE=image/jpeg:https://media-pacchurch.s3.us-west-2.amazonaws.com/wp-content/uploads/2025/09/14203720/Future-Aviator-Pilots-_-PowerPoint21.jpg
END:VEVENT
END:VCALENDAR