BEGIN:VCALENDAR
VERSION:2.0
PRODID:-//Pacific Christian Center Church in Tacoma - ECPv6.15.17.1//NONSGML v1.0//EN
CALSCALE:GREGORIAN
METHOD:PUBLISH
X-WR-CALNAME:Pacific Christian Center Church in Tacoma
X-ORIGINAL-URL:https://pacchurch.org
X-WR-CALDESC:Events for Pacific Christian Center Church in Tacoma
REFRESH-INTERVAL;VALUE=DURATION:PT1H
X-Robots-Tag:noindex
X-PUBLISHED-TTL:PT1H
BEGIN:VTIMEZONE
TZID:America/Los_Angeles
BEGIN:DAYLIGHT
TZOFFSETFROM:-0800
TZOFFSETTO:-0700
TZNAME:PDT
DTSTART:20240310T100000
END:DAYLIGHT
BEGIN:STANDARD
TZOFFSETFROM:-0700
TZOFFSETTO:-0800
TZNAME:PST
DTSTART:20241103T090000
END:STANDARD
BEGIN:DAYLIGHT
TZOFFSETFROM:-0800
TZOFFSETTO:-0700
TZNAME:PDT
DTSTART:20250309T100000
END:DAYLIGHT
BEGIN:STANDARD
TZOFFSETFROM:-0700
TZOFFSETTO:-0800
TZNAME:PST
DTSTART:20251102T090000
END:STANDARD
BEGIN:DAYLIGHT
TZOFFSETFROM:-0800
TZOFFSETTO:-0700
TZNAME:PDT
DTSTART:20260308T100000
END:DAYLIGHT
BEGIN:STANDARD
TZOFFSETFROM:-0700
TZOFFSETTO:-0800
TZNAME:PST
DTSTART:20261101T090000
END:STANDARD
END:VTIMEZONE
BEGIN:VEVENT
DTSTART;TZID=America/Los_Angeles:20251003T130000
DTEND;TZID=America/Los_Angeles:20251003T150000
DTSTAMP:20260421T043333
CREATED:20250902T033545Z
LAST-MODIFIED:20250902T033545Z
UID:225540-1759496400-1759503600@pacchurch.org
SUMMARY:Excellence N Business presented by Northco Development
DESCRIPTION:October 3rd\, 2025 @ 1:00pm at the Tacoma Convention Center / Marriott Hotel\nAt the Excellence N Business Seminar session\, you will be inspired to excel into successful? business realms you never thought were possible\, without compromising your integrity or impugning your character based on a life filled with faith in God. Learn from serious principled businessmen and women in your field of business interest on how to start a business\, grow your own business or work successfully employed around business minded people through the ENB Good Success! approach. Plan to be a winner for life\, plan to join us at the next Excellence N Business. Remember\, “GOD IS LOOKING FOR HIS OWN MILLIONAIRES AND BILLIONAIRES THAT ARE NOT ASHAMED TO GIVE HIM THE GLORY FOR THEIR INCREDIBLE SUCCESS” according to Dr. Don and Kathy Shorter\, Founders of Excellence N Business. We’ll see you at the TOP! Get reserve your seat today for an inspirational and highly informative time filled with precious business insights with Dr. Phillip G. Goudeaux of Sacramento\, California. Hosted by television hosts\, authors and founders of Pacific Christian Center in Tacoma\, WA\, Drs. Don and Kathy Shorter. \nVisit: www.NorthcoDevelpment.for more details. Space is very limited so get your tickets now on Eventbrite.com
URL:https://pacchurch.org/event/excellence-n-business-presented-by-northco-development-3/
LOCATION:Marriott Tacoma Downtown\, 1538 Commerce St\, Tacoma\, WA\, WA\, United States
ATTACH;FMTTYPE=image/jpeg:https://media-pacchurch.s3.us-west-2.amazonaws.com/wp-content/uploads/2025/08/31152635/Excellence-N-Business_PPT.jpg
END:VEVENT
BEGIN:VEVENT
DTSTART;TZID=America/Los_Angeles:20251003T191500
DTEND;TZID=America/Los_Angeles:20251003T203000
DTSTAMP:20260421T043333
CREATED:20250729T000104Z
LAST-MODIFIED:20250729T000104Z
UID:225372-1759518900-1759523400@pacchurch.org
SUMMARY:Friday Empowered with the Word!
DESCRIPTION:Join us for Empowered with the Word with Drs. Phillip and Brenda Goudeaux\nJoin us at Pacific Christian Center for a power-packed time in the Word of God. Come and receive all that God has for you.
URL:https://pacchurch.org/event/friday-empowered-with-the-word/
LOCATION:Pacific Christian Center Church in Tacoma\, 3211-112th Street East\, Tacoma\, WA\, 98446\, United States
ATTACH;FMTTYPE=image/jpeg:https://media-pacchurch.s3.us-west-2.amazonaws.com/wp-content/uploads/2025/07/28165808/DrsPhilipBrendaGoudeaux_Empowered.jpg
END:VEVENT
END:VCALENDAR