BEGIN:VCALENDAR
VERSION:2.0
PRODID:-//Pacific Christian Center Church in Tacoma - ECPv6.15.17.1//NONSGML v1.0//EN
CALSCALE:GREGORIAN
METHOD:PUBLISH
X-ORIGINAL-URL:https://pacchurch.org
X-WR-CALDESC:Events for Pacific Christian Center Church in Tacoma
REFRESH-INTERVAL;VALUE=DURATION:PT1H
X-Robots-Tag:noindex
X-PUBLISHED-TTL:PT1H
BEGIN:VTIMEZONE
TZID:America/Los_Angeles
BEGIN:DAYLIGHT
TZOFFSETFROM:-0800
TZOFFSETTO:-0700
TZNAME:PDT
DTSTART:20240310T100000
END:DAYLIGHT
BEGIN:STANDARD
TZOFFSETFROM:-0700
TZOFFSETTO:-0800
TZNAME:PST
DTSTART:20241103T090000
END:STANDARD
BEGIN:DAYLIGHT
TZOFFSETFROM:-0800
TZOFFSETTO:-0700
TZNAME:PDT
DTSTART:20250309T100000
END:DAYLIGHT
BEGIN:STANDARD
TZOFFSETFROM:-0700
TZOFFSETTO:-0800
TZNAME:PST
DTSTART:20251102T090000
END:STANDARD
BEGIN:DAYLIGHT
TZOFFSETFROM:-0800
TZOFFSETTO:-0700
TZNAME:PDT
DTSTART:20260308T100000
END:DAYLIGHT
BEGIN:STANDARD
TZOFFSETFROM:-0700
TZOFFSETTO:-0800
TZNAME:PST
DTSTART:20261101T090000
END:STANDARD
END:VTIMEZONE
BEGIN:VEVENT
DTSTART;TZID=America/Los_Angeles:20250830T100000
DTEND;TZID=America/Los_Angeles:20250830T150000
DTSTAMP:20260422T031237
CREATED:20250708T023241Z
LAST-MODIFIED:20250814T062110Z
UID:225274-1756548000-1756566000@pacchurch.org
SUMMARY:Saturday August 30 - Jesus In The Park
DESCRIPTION:Join lots of your friends and family at the exciting celebration happening here in the Northwest on Saturday\, August 30th\, 2025\, from 10am – 3pm. \nIt’s JESUS N THE PARK\, a one-day celebration of faith and fun all in one place at the Dune Peninsula at Point Defiance Park in Tacoma\, 5361 Yacht Club Road. \nWith nearly every school district in America reporting mental illness in students as their number one concern\, the launch of the first annual Jesus N The Park event is planned for August 30th 2025 at The Dune Peninsula at Point Defiance in Tacoma to offer prayer encouragement\, great music\, testimonies\, food and joyous fun for everyone that attends. \nJesus N The Park is a free community wide event featuring great speakers\, Grammy award winning musicians\, school supplies and back pack give aways (while supplies last)\, all free of charge! Speakers will offer prayers and encouragement to parents\, students\, school staff and administrators.  Don’t miss this milestone event for Washington state. Join your friends\, family\, neighbors and other believers for the music\, the inspiration\, and all the joy of our communities coming together for the common good at this annual faith-based celebration…. Don’t miss Jesus N The Park! Saturday\, August 30th\, 2025\, at the Dune Peninsula at Point Defiance Park. Bring your lawn chairs and come enjoy the fun. \nPresented by Northco Development\nFor more details\, visit NorthcoDevelopment.org or call 253-539-2721. \nEvent Flyer Download\n 
URL:https://pacchurch.org/event/saturday-jesus-n-the-park/
LOCATION:Dune Peninsula\, 5361 Yacht Club Rd\, Tacoma\, w\, 98407\, United States
ATTACH;FMTTYPE=image/jpeg:https://media-pacchurch.s3.us-west-2.amazonaws.com/wp-content/uploads/2025/08/12015029/Facebook-Event.jpg
END:VEVENT
END:VCALENDAR